BEGIN:VCALENDAR
VERSION:2.0
PRODID:-//You Pack I Plan - ECPv6.15.20//NONSGML v1.0//EN
CALSCALE:GREGORIAN
METHOD:PUBLISH
X-ORIGINAL-URL:https://youpackiplan.com
X-WR-CALDESC:Events for You Pack I Plan
REFRESH-INTERVAL;VALUE=DURATION:PT1H
X-Robots-Tag:noindex
X-PUBLISHED-TTL:PT1H
BEGIN:VTIMEZONE
TZID:UTC
BEGIN:STANDARD
TZOFFSETFROM:+0000
TZOFFSETTO:+0000
TZNAME:UTC
DTSTART:20250101T000000
END:STANDARD
END:VTIMEZONE
BEGIN:VEVENT
DTSTART;VALUE=DATE:20261016
DTEND;VALUE=DATE:20261020
DTSTAMP:20260423T202647
CREATED:20260225T022138Z
LAST-MODIFIED:20260311T000934Z
UID:15445-1792108800-1792454399@youpackiplan.com
SUMMARY:🎉 Mr. Hawkins’ 75th Birthday Celebration Cruise
DESCRIPTION:🎉 Mr. Hawkins’ 75th Birthday Celebration Cruise \nRoyal Caribbean – Ovation of the SeasOctober 16–19\, 2026 | Roundtrip from Los Angeles \n\n🚢 A Milestone at Sea\nJoin family and friends as we celebrate an incredible milestone — Mr. Hawkins’ 75th birthday — with a joyful 3-night getaway at sea. This special sailing brings loved ones together to honor his life\, legacy\, and the many memories still to be made. \nFrom Los Angeles to Ensenada and back\, we’ll enjoy ocean views\, delicious dining\, entertainment\, and meaningful time together — all while celebrating Mr. Hawkins in unforgettable style. \n\n🧭 Cruise Overview\nCruise Line: Royal Caribbean International\nShip: Ovation of the Seas\nSailing Date: October 16\, 2026\nDuration: 3 Nights \nItinerary \n\n\n\n\nDate\nPort\nTime\n\n\n\n\nOct 16\nLos Angeles\, CA\nDepart 4:00 PM\n\n\nOct 17\nEnsenada\, Mexico\n8:00 AM–4:00 PM\n\n\nOct 18\nDay at Sea\n—\n\n\nOct 19\nLos Angeles\, CA\nArrive 7:00 AM\n\n\n\n\n\n\n\n\n\n\n\n\n 🛏️ Group Cabin Options\nOceanview Balcony Private balcony with open ocean views. \nObstructed Connecting Balcony Balcony stateroom with a partially obstructed view and connecting options for families booking together. \nInterior Interior stateroom featuring a live virtual ocean view screen. \n\n💳 Payment Plan & Important Dates\nThis cruise includes a structured payment schedule to make planning simple and clear. \nDeposit$100 per person — Due March 30\, 2026 \nMonthly Payments$75 per person• April 15\, 2026• May 15\, 2026• June 15\, 2026 \nFinal Balance DueJuly 20\, 2026 \nYou may pay more than the scheduled amount at any time or pay in full early.\nGuests who fall behind on scheduled payments risk cancellation per cruise line policy. \n\n🎂 Birthday Celebration Highlights\n\n\nSailing together in celebration of Mr. Hawkins’ 75th birthday \n\n\nTime to reconnect with family and friends \n\n\nA beautiful Ensenada port day \n\n\nDining\, entertainment\, and shared moments at sea \n\n\nSpecial birthday gatherings to be announced closer to sailing \n\n\nDetails about organized birthday activities will be shared as we get closer to sailing. \n\n❓ Frequently Asked Questions\nWhat is included in the cruise fare? \n\n\nStateroom accommodations \n\n\nMain dining and buffet meals \n\n\nOnboard entertainment and activities \n\n\nAccess to ship amenities such as pools and lounges \n\n\nTaxes and port fees included in listed group pricing \n\n\n\nWhat is not included? \n\n\nDaily gratuities \n\n\nAlcoholic beverages and specialty drinks \n\n\nSpecialty dining \n\n\nShore excursions in Ensenada \n\n\nTravel insurance \n\n\nTransportation to and from the Los Angeles cruise port \n\n\n\nHow much are gratuities? \nRoyal Caribbean automatic daily gratuities: \n\n\n$18.50 per guest\, per day – Standard staterooms \n\n\n$21.00 per guest\, per day – Suites \n\n\nFor this 3-night cruise: \n\n\n$55.50 per person – Standard cabins \n\n\n$63.00 per person – Suites \n\n\nGratuities may be prepaid or paid onboard. If you would like to prepay your gratuities\, please leave a note in the booking form. \n\nDo I need a passport? \nThis is a closed-loop cruise departing and returning to the same U.S. port. \nGuests may sail with: \n\n\nA valid U.S. passportOR \n\n\nOriginal birth certificate + government-issued photo ID \n\n\nNon-U.S. citizens must travel with a valid passport and any required visas. \nA passport is strongly recommended. \n\nIs travel insurance required?  \nTravel insurance is not required but strongly recommended.  \nPlans start at $49 per person and help protect your investment in case of unexpected cancellations\, illness\, or travel disruptions.  \n\nWhat is the cancellation policy? \nCancellation penalties are determined by Royal Caribbean and typically begin approximately 75 days before sailing. The closer to departure you cancel\, the higher the penalty. Travel insurance is strongly recommended. \n\nCan I choose my cabin location? \nCabins within the group block are assigned based on category and availability. Specific location requests can be noted but are not guaranteed. \nIs single occupancy available? \nYes. Guests may book a stateroom for single occupancy. However\, cruise lines price cabins based on double occupancy\, which means a single traveler will typically pay a higher rate than the per-person double occupancy price listed on the website. Single occupancy pricing varies based on cabin type and availability. Please contact us for current single occupancy rates. \n\nCan I book a suite? \nYes. Suites may be available on the ship\, however suite cabins are not included in the group rate or group cabin block. Suite pricing is based on Royal Caribbean’s current rates and availability at the time of booking and may change at any time. If you are interested in booking a suite\, please contact us directly for current pricing and availability.
URL:https://youpackiplan.com/event/mrhawkins/
LOCATION:Royal Caribbean – Ovation of the Seas\, Port of Los Angeles
CATEGORIES:Private Groups
ATTACH;FMTTYPE=image/jpeg:https://youpackiplan.com/wp-content/uploads/2026/03/media-scaled.jpeg
ORGANIZER;CN="C":MAILTO:travel@youpackiplan.com
END:VEVENT
BEGIN:VEVENT
DTSTART;VALUE=DATE:20261021
DTEND;VALUE=DATE:20261027
DTSTAMP:20260423T202647
CREATED:20260306T031541Z
LAST-MODIFIED:20260307T164823Z
UID:15483-1792540800-1793059199@youpackiplan.com
SUMMARY:🏈 Saints in Paris
DESCRIPTION:🏈 Saints in Paris\nNFL International Game Experience\nOctober 21–26\, 2026 | Paris\, France \nCalling all Saints fans. Pack your black and gold and join fellow fans for an unforgettable football experience abroad as we head to Paris to watch our team play on the international stage. \nThis exclusive fan trip combines the excitement of NFL football with the romance\, culture\, and cuisine of one of the world’s most iconic cities. Whether you’re cheering in the stadium\, exploring historic neighborhoods\, or enjoying Parisian cafés\, this trip is designed for Saints fans ready to celebrate their team in style. \nGuests will stay in the vibrant Bastille district\, known for its lively atmosphere\, charming streets\, restaurants\, and easy access to many of Paris landmarks. \nGet ready for an unforgettable week of football\, culture\, and Parisian adventure. \n  \n\n🧭 Trip Overview\n\n\n\nDetail\nInformation\n\n\n\n\nTravel Dates\nOctober 21–26\, 2026\n\n\nDestination\nParis\, France\n\n\nDeparture Gateway\nLos Angeles (LAX)\n\n\nTrip Length\n5 Days / 4 Nights\n\n\nHotel\nMercure Paris Bastille Marais\n\n\nExperience\nSaints Fan Group Trip\n\n\n\n  \n\n⭐ Trip Highlights\n\n\nExperience the excitement of the NFL International Series and cheer on the Saints in Paris \n\n\nExplore iconic landmarks like the Eiffel Tower\, Louvre\, and Seine River \n\n\nEnjoy Parisian cafés\, bakeries\, and world-famous cuisine \n\n\nShop along charming Paris streets\, boutiques\, and markets \n\n\nStay in the lively Bastille district with convenient Metro access across Paris \n\n\n\n💰 Package Pricing\n$2\,075 per person Based on double occupancuy \n\nIncludes airfare from Los Angeles\, 4-night hotel stay in Paris\, airport transfers\, Cancel-for-Any-Reason\n\n\n💳 Payment Plan & Important Dates\nDeposit$500 per person due at time of booking \nMonthly PaymentsPayments will be scheduled between booking and final payment. \nFinal Payment DueSeptember 1\, 2026 \nYou may pay more than the scheduled amount at any time or pay in full early. \n  \n\n🏨 Hotel Accommodations\nMercure Paris Bastille Marais \nLocated in the lively Bastille neighborhood\, the Mercure Paris Bastille Marais places guests close to local cafés\, boutiques\, and famous Paris attractions.  \nHighlights include: \n\n\nComfortable modern rooms \n\n\nWalking distance to restaurants and nightlife \n\n\nEasy access to the Paris Metro \n\n\nLocated in one of the city’s most energetic districts \n\n\n\n✈️ Flight Schedule\nAirline: Scandinavian Airlines (SAS)  \nDeparture – October 21\, 2026 \n\n\n\nRoute\nFlight\nDeparture\nArrival\n\n\n\n\nLos Angeles (LAX) → Copenhagen (CPH)\nSAS 932\n7:10 PM\n3:10 PM (+1 day)\n\n\nCopenhagen (CPH) → Paris (CDG)\nSAS Connect 559\n5:25 PM\n7:25 PM\n\n\n\nTotal Travel Time: 15h 15m \n_______________________________ \nReturn – October 26\, 2026 \n\n\n\nRoute\nFlight\nDeparture\nArrival\n\n\n\n\nParis (CDG) → Copenhagen (CPH)\nSAS Connect 566\n11:05 AM\n1:00 PM\n\n\nCopenhagen (CPH) → Los Angeles (LAX)\nSAS 931\n2:20 PM\n6:00 PM\n\n\n\nTotal Travel Time: 14h 55m \n\n❓ Frequently Asked Questions\nWhat is included in the package? \n\n\nRoundtrip international airfare from Los Angeles (LAX) | Flights on Scandinavian Airlines (SAS) \n\n\n4-night hotel stay in Paris | Accommodations at Mercure Paris Bastille Marais (breakfast included) \n\n\nAirport transfers in Paris \n\n\nCancel for Any Reason travel protection \n\n\nHosted Saints fan travel experience \n\n\n\nWhat is not included? \n\n\nNFL game tickets (pending official release from the NFL) \n\n\nMeals not specified by the hotel \n\n\nOptional tours and excursions \n\n\nPersonal expenses \n\n\nTransportation within Paris outside included transfers \n\n\nChecked baggage fees (if applicable) \n\n\n\nDo I need a passport? \nYes. A valid passport is required for travel to France.  \nYour passport should be valid for at least six months beyond your return date and must have at least one blank page for entry stamps.  \nIf you do not currently have a passport\, we recommend applying as soon as possible to avoid processing delays.  \n  \nDo U.S. citizens need a visa? \nNo visa is currently required for U.S. citizens traveling to France for tourism under 90 days. \nHowever\, beginning in 2026 travelers will need an ETIAS travel authorization:\n\nETIAS Travel Authorization (Starting in 2026)  \n\nBeginning in 2026\, U.S. travelers visiting many European countries\, including France\, will be required to obtain an ETIAS travel authorization before traveling.\nETIAS stands for European Travel Information and Authorization System. It is not a visa\, but a travel pre-authorization similar to the U.S. ESTA system used for visitors entering the United States.\nKey Things Travelers Should Know\n\nWho needs it: U.S. citizens and travelers from other visa-exempt countries visiting Europe for tourism.\nCost: Approximately €7 (about $8 USD).\nHow long it lasts :An ETIAS authorization is typically valid for 3 years or until your passport expires.\nHow to apply: Applications are completed online and usually take only a few minutes.\nApproval time: Most applications are approved within minutes\, though travelers should apply at least a few weeks before departure just in case. \n\n\n\n  \nIs travel insurance included?  \nYes. Your package includes Cancel for Any Reason (CFAR) travel protection.  \nThis coverage allows you to cancel your trip for any reason and receive trip credit for the amount paid\, minus the cost of the insurance.  \nThe credit can be applied toward a future trip booked through the agency.  \n  \nWhat happens if I need to cancel my trip?  \nIf you need to cancel your trip\, the following applies:  \n\nThe included Cancel for Any Reason insurance provides trip credit for the amount paid (minus the cost of insurance). \n\n\nThe credit can be used toward a future trip booked with the agency. \n\nWe strongly recommend notifying the travel coordinator as soon as possible if your plans change.\n \n\nWhat documents do I need for check-in?  \nTravelers will need:  \n\nA valid passport \n\n\nAirline ticket confirmation \n\n\nTravel package confirmation \n\n\nAny required travel documentation provided before departure\n\n\nAdditional travel details will be provided closer to the departure date. 
URL:https://youpackiplan.com/event/saintsinparis/
LOCATION:Paris\, France
CATEGORIES:Private Groups
ATTACH;FMTTYPE=image/jpeg:https://youpackiplan.com/wp-content/uploads/2026/03/0b3aa2a6-a64c-45b6-9dfe-31a5d6754173-scaled.jpg
END:VEVENT
END:VCALENDAR